BEGIN:VCALENDAR
PRODID:-//Riksbanken//riksbanken.se//SV
VERSION:2.0
BEGIN:VEVENT
DTSTART:20130114T230000Z
DTSTAMP:20260423T133437Z
UID:3104d12124104ae7a76cf80ec400d222
CREATED:20260423T133437Z
DESCRIPTION:Firm Financing, Uncertainty, and Macroeconomic Fluctuations
LAST-MODIFIED:20260423T133437Z
LOCATION:
SEQUENCE:0
STATUS:CONFIRMED
SUMMARY:Job talk: Joachim Jungherr, European University Institute
TRANSP:OPAQUE
END:VEVENT
END:VCALENDAR
