BEGIN:VCALENDAR
PRODID:-//Riksbanken//riksbanken.se//SV
VERSION:2.0
BEGIN:VEVENT
DTSTART:20130116T230000Z
DTSTAMP:20260423T133413Z
UID:7d39842359354ee498321a4fd95dd987
CREATED:20260423T133413Z
DESCRIPTION:On the Redistributive Effects of Inflation: an International Perspective
LAST-MODIFIED:20260423T133413Z
LOCATION:
SEQUENCE:0
STATUS:CONFIRMED
SUMMARY:Job talk: Paola Boel, Bowdoin College
TRANSP:OPAQUE
END:VEVENT
END:VCALENDAR
