BEGIN:VCALENDAR
PRODID:-//Riksbanken//riksbanken.se//SV
VERSION:2.0
BEGIN:VEVENT
DTSTART:20130117T230000Z
DTSTAMP:20260423T133420Z
UID:349e89a20cbf4bc2b085e72019ef5608
CREATED:20260423T133420Z
DESCRIPTION:A Model of Liquidity Provision with Adverse Selection
LAST-MODIFIED:20260423T133420Z
LOCATION:
SEQUENCE:0
STATUS:CONFIRMED
SUMMARY:Job talk: Christoph Bertsch, University College London
TRANSP:OPAQUE
END:VEVENT
END:VCALENDAR
