BEGIN:VCALENDAR
PRODID:-//Riksbanken//riksbanken.se//SV
VERSION:2.0
BEGIN:VEVENT
DTSTART:20130120T230000Z
DTSTAMP:20260423T133317Z
UID:82d4dc84a0674842a77822e6180022d7
CREATED:20260423T133317Z
DESCRIPTION:How do banks react to increased asset risks? Evidence from Hurricane Katrina
LAST-MODIFIED:20260423T133317Z
LOCATION:
SEQUENCE:0
STATUS:CONFIRMED
SUMMARY:Job talk: Claudia Lambert, Goethe-University Frankfurt
TRANSP:OPAQUE
END:VEVENT
END:VCALENDAR
