BEGIN:VCALENDAR
PRODID:-//Riksbanken//riksbanken.se//SV
VERSION:2.0
BEGIN:VEVENT
DTSTART:20130122T230000Z
DTSTAMP:20260423T133413Z
UID:75e430e4a8314359b40c3920a0f48b7b
CREATED:20260423T133413Z
DESCRIPTION:Macroprudential Policy: Its Effects and Relationship to Monetary Policy
LAST-MODIFIED:20260423T133413Z
LOCATION:
SEQUENCE:0
STATUS:CONFIRMED
SUMMARY:Job talk: Hyunduk Suh, Indiana University
TRANSP:OPAQUE
END:VEVENT
END:VCALENDAR
