BEGIN:VCALENDAR
PRODID:-//Riksbanken//riksbanken.se//SV
VERSION:2.0
BEGIN:VEVENT
DTSTART:20130124T230000Z
DTSTAMP:20260423T133413Z
UID:e71b009905234904808914ff5554f221
CREATED:20260423T133413Z
DESCRIPTION:Bank Competition, Information Choice and Inefficient Lending Booms
LAST-MODIFIED:20260423T133413Z
LOCATION:
SEQUENCE:0
STATUS:CONFIRMED
SUMMARY:Job talk: Silvio Petroconi, Universitat Pompeu Fabra
TRANSP:OPAQUE
END:VEVENT
END:VCALENDAR
