BEGIN:VCALENDAR
PRODID:-//Riksbanken//riksbanken.se//SV
VERSION:2.0
BEGIN:VEVENT
DTSTART:20130127T230000Z
DTSTAMP:20260423T133413Z
UID:5c235f1e54f543d78841aa0b2f2238a1
CREATED:20260423T133413Z
DESCRIPTION:Why do income and productivity differ in OECD countries?
LAST-MODIFIED:20260423T133413Z
LOCATION:
SEQUENCE:0
STATUS:CONFIRMED
SUMMARY:Job talk: Conny Olovsson, IIES
TRANSP:OPAQUE
END:VEVENT
END:VCALENDAR
