BEGIN:VCALENDAR
PRODID:-//Riksbanken//riksbanken.se//SV
VERSION:2.0
BEGIN:VEVENT
DTSTART:20130130T230000Z
DTSTAMP:20260423T133413Z
UID:16de78f2168249deae1cd9a8c653ad5b
CREATED:20260423T133413Z
DESCRIPTION:Financial Networks, Interbank Market Breakdowns and Contagion
LAST-MODIFIED:20260423T133413Z
LOCATION:
SEQUENCE:0
STATUS:CONFIRMED
SUMMARY:Job talk: Emanuela Iancu, Stockholm School of Economics
TRANSP:OPAQUE
END:VEVENT
END:VCALENDAR
