BEGIN:VCALENDAR
PRODID:-//Riksbanken//riksbanken.se//SV
VERSION:2.0
BEGIN:VEVENT
DTSTART:20130131T230000Z
DTSTAMP:20260423T133414Z
UID:a790fe39b48f46aba155ec923df72eae
CREATED:20260423T133414Z
DESCRIPTION:Does Financial Integration Increase Welfare? Evidence From International Household-Level Data
LAST-MODIFIED:20260423T133414Z
LOCATION:
SEQUENCE:0
STATUS:CONFIRMED
SUMMARY:Job talk: Christian Friedrich, Graduate Institute of Internatio
TRANSP:OPAQUE
END:VEVENT
END:VCALENDAR
