BEGIN:VCALENDAR
PRODID:-//Riksbanken//riksbanken.se//SV
VERSION:2.0
BEGIN:VEVENT
DTSTART:20130205T230000Z
DTSTAMP:20260423T133414Z
UID:1d97f4c3dcd144878903edd472a5ab2a
CREATED:20260423T133414Z
DESCRIPTION:Interest Rate Rules and Mortgage Default
LAST-MODIFIED:20260423T133414Z
LOCATION:
SEQUENCE:0
STATUS:CONFIRMED
SUMMARY:Job talk: Isaiah Hull, Boston College
TRANSP:OPAQUE
END:VEVENT
END:VCALENDAR
