BEGIN:VCALENDAR
PRODID:-//Riksbanken//riksbanken.se//SV
VERSION:2.0
BEGIN:VEVENT
DTSTART:20130207T230000Z
DTSTAMP:20260423T133414Z
UID:490b0f98147e4186b7ab9d4473659f7b
CREATED:20260423T133414Z
DESCRIPTION:The Cost of Human Capital Depreciation during Unemployment
LAST-MODIFIED:20260423T133414Z
LOCATION:
SEQUENCE:0
STATUS:CONFIRMED
SUMMARY:Job talk: Lien Laureys, Universitat Pompeu Fabra
TRANSP:OPAQUE
END:VEVENT
END:VCALENDAR
