BEGIN:VCALENDAR
PRODID:-//Riksbanken//riksbanken.se//SV
VERSION:2.0
BEGIN:VEVENT
DTSTART:20130210T230000Z
DTSTAMP:20260423T133420Z
UID:8f6586114c17489db9ea364698e2d60e
CREATED:20260423T133420Z
DESCRIPTION:Banks' Borrowing Costs and Default Risk
LAST-MODIFIED:20260423T133420Z
LOCATION:
SEQUENCE:0
STATUS:CONFIRMED
SUMMARY:Job talk: Jonas Arias, Duke University
TRANSP:OPAQUE
END:VEVENT
END:VCALENDAR
