BEGIN:VCALENDAR
PRODID:-//Riksbanken//riksbanken.se//SV
VERSION:2.0
BEGIN:VEVENT
DTSTART:20130212T230000Z
DTSTAMP:20260423T133420Z
UID:99f28d1ff1b74a8f9b50cefa1e6d51cb
CREATED:20260423T133420Z
DESCRIPTION:Information Acquisition and Learning from Prices over the Business Cycle
LAST-MODIFIED:20260423T133420Z
LOCATION:
SEQUENCE:0
STATUS:CONFIRMED
SUMMARY:Job talk: Björn Ohl, Stockholm School of Economics
TRANSP:OPAQUE
END:VEVENT
END:VCALENDAR
