BEGIN:VCALENDAR
PRODID:-//Riksbanken//riksbanken.se//SV
VERSION:2.0
BEGIN:VEVENT
DTSTART:20130214T230000Z
DTSTAMP:20260423T133437Z
UID:0163a0181061479aacde512d8b0bddf8
CREATED:20260423T133437Z
DESCRIPTION:Crisis, Coordination, and Contagion
LAST-MODIFIED:20260423T133437Z
LOCATION:
SEQUENCE:0
STATUS:CONFIRMED
SUMMARY:Job talk: Toni Ahnert, London School of Econmics
TRANSP:OPAQUE
END:VEVENT
END:VCALENDAR
