BEGIN:VCALENDAR
PRODID:-//Riksbanken//riksbanken.se//SV
VERSION:2.0
BEGIN:VEVENT
DTSTART:20130225T230000Z
DTSTAMP:20260423T133420Z
UID:d580fa02167a44cca91b7749b5b89060
CREATED:20260423T133420Z
DESCRIPTION:A Theory of Aggregate Supply and Aggregate Demand as Functions of Market Tightnesswith Prices as Parameters
LAST-MODIFIED:20260423T133420Z
LOCATION:
SEQUENCE:0
STATUS:CONFIRMED
SUMMARY:Pascal Michaillat, LSE
TRANSP:OPAQUE
END:VEVENT
END:VCALENDAR
