BEGIN:VCALENDAR
PRODID:-//Riksbanken//riksbanken.se//SV
VERSION:2.0
BEGIN:VEVENT
DTSTART:20130304T230000Z
DTSTAMP:20260423T165914Z
UID:b9c61fdceaac48f29523301e48b989d8
CREATED:20260423T165914Z
DESCRIPTION:Reallocation and Technology: Evidence from the U.S. Steel Industry
LAST-MODIFIED:20260423T165914Z
LOCATION:
SEQUENCE:0
STATUS:CONFIRMED
SUMMARY:Jan de Loecker, Princeton University
TRANSP:OPAQUE
END:VEVENT
END:VCALENDAR
