BEGIN:VCALENDAR
PRODID:-//Riksbanken//riksbanken.se//SV
VERSION:2.0
BEGIN:VEVENT
DTSTART:20130311T230000Z
DTSTAMP:20260423T165940Z
UID:fb4cef8c94414e08981f893e694d7b98
CREATED:20260423T165940Z
DESCRIPTION:Policy Intervention in Debt Renegotiation: Evidence from the Home Affordable Modification Program
LAST-MODIFIED:20260423T165940Z
LOCATION:
SEQUENCE:0
STATUS:CONFIRMED
SUMMARY:Tomasz Piskorski, Real Estate at Columbia Business School
TRANSP:OPAQUE
END:VEVENT
END:VCALENDAR
