BEGIN:VCALENDAR
PRODID:-//Riksbanken//riksbanken.se//SV
VERSION:2.0
BEGIN:VEVENT
DTSTART:20130325T230000Z
DTSTAMP:20260423T170026Z
UID:6e2839cffe494c7bb2301353ce3a20d1
CREATED:20260423T170026Z
DESCRIPTION:Product Introductions, Currency Unions, and the Real Exchange Rate
LAST-MODIFIED:20260423T170026Z
LOCATION:
SEQUENCE:0
STATUS:CONFIRMED
SUMMARY:Alberto Cavallo, MIT Sloan
TRANSP:OPAQUE
END:VEVENT
END:VCALENDAR
