BEGIN:VCALENDAR
PRODID:-//Riksbanken//riksbanken.se//SV
VERSION:2.0
BEGIN:VEVENT
DTSTART:20130408T220000Z
DTSTAMP:20260423T210242Z
UID:f4f7f43e5cdb46c481c07efb5ead4a5a
CREATED:20260423T210242Z
DESCRIPTION:Do inflation expectations differ across groups?
LAST-MODIFIED:20260423T210242Z
LOCATION:
SEQUENCE:0
STATUS:CONFIRMED
SUMMARY:Daniel Ekeblom, Lund University
TRANSP:OPAQUE
END:VEVENT
END:VCALENDAR
