BEGIN:VCALENDAR
PRODID:-//Riksbanken//riksbanken.se//SV
VERSION:2.0
BEGIN:VEVENT
DTSTART:20130415T220000Z
DTSTAMP:20260423T210313Z
UID:4a6308300e614c38b4c41f1009d0b8f3
CREATED:20260423T210313Z
DESCRIPTION:Are Small Businesses Worthy of Financial Aid?
LAST-MODIFIED:20260423T210313Z
LOCATION:
SEQUENCE:0
STATUS:CONFIRMED
SUMMARY:Evidence From a French Targeted Credit Program, Laurent Bach, Stockholm School of Economics
TRANSP:OPAQUE
END:VEVENT
END:VCALENDAR
