BEGIN:VCALENDAR
PRODID:-//Riksbanken//riksbanken.se//SV
VERSION:2.0
BEGIN:VEVENT
DTSTART:20130424T220000Z
DTSTAMP:20260423T210313Z
UID:72a2869b571f461da8a46685cda56a1d
CREATED:20260423T210313Z
DESCRIPTION:Dormant Shocks and Fiscal Virtue
LAST-MODIFIED:20260423T210313Z
LOCATION:
SEQUENCE:0
STATUS:CONFIRMED
SUMMARY:Francesco Bianchi, Duke University
TRANSP:OPAQUE
END:VEVENT
END:VCALENDAR
