BEGIN:VCALENDAR
PRODID:-//Riksbanken//riksbanken.se//SV
VERSION:2.0
BEGIN:VEVENT
DTSTART:20130507T220000Z
DTSTAMP:20260423T170428Z
UID:4d00e2ce4d77439d8a8c3632691853c3
CREATED:20260423T170428Z
DESCRIPTION:An overview of recent federal reserve policy and communications innovations
LAST-MODIFIED:20260423T170428Z
LOCATION:
SEQUENCE:0
STATUS:CONFIRMED
SUMMARY:Jeff Fuhrer, Federal Reserve Bank of Boston
TRANSP:OPAQUE
END:VEVENT
END:VCALENDAR
