BEGIN:VCALENDAR
PRODID:-//Riksbanken//riksbanken.se//SV
VERSION:2.0
BEGIN:VEVENT
DTSTART:20130513T220000Z
DTSTAMP:20260423T170546Z
UID:3d10f0a3061342eb8efb4a69f29f05dc
CREATED:20260423T170546Z
DESCRIPTION:Cascading Defaults and Systemic Risk of a Banking System
LAST-MODIFIED:20260423T170546Z
LOCATION:
SEQUENCE:0
STATUS:CONFIRMED
SUMMARY:Duan Jin-Chuan, National University of Singapore
TRANSP:OPAQUE
END:VEVENT
END:VCALENDAR
