BEGIN:VCALENDAR
PRODID:-//Riksbanken//riksbanken.se//SV
VERSION:2.0
BEGIN:VEVENT
DTSTART:20130522T220000Z
DTSTAMP:20260423T170636Z
UID:e95be7ad7b6e4662b44c75c5173efd20
CREATED:20260423T170636Z
DESCRIPTION:The Gender Unemployment Gap
LAST-MODIFIED:20260423T170636Z
LOCATION:
SEQUENCE:0
STATUS:CONFIRMED
SUMMARY:Stefania Albanesi, Federal Reserve Bank of New York
TRANSP:OPAQUE
END:VEVENT
END:VCALENDAR
