BEGIN:VCALENDAR
PRODID:-//Riksbanken//riksbanken.se//SV
VERSION:2.0
BEGIN:VEVENT
DTSTART:20130526T220000Z
DTSTAMP:20260423T170707Z
UID:4b77a031c2ef43019e898560fa9dc6cc
CREATED:20260423T170707Z
DESCRIPTION:Debt Overhang and Monetary Policy
LAST-MODIFIED:20260423T170707Z
LOCATION:
SEQUENCE:0
STATUS:CONFIRMED
SUMMARY:James Bullard, President and CEO of FRB-St. Louis
TRANSP:OPAQUE
END:VEVENT
END:VCALENDAR
