BEGIN:VCALENDAR
PRODID:-//Riksbanken//riksbanken.se//SV
VERSION:2.0
BEGIN:VEVENT
DTSTART:20130527T220000Z
DTSTAMP:20260423T170545Z
UID:e11bfec12eb64541862905e081e70c81
CREATED:20260423T170545Z
DESCRIPTION:Risky Investment with Limited Enforcement
LAST-MODIFIED:20260423T170545Z
LOCATION:
SEQUENCE:0
STATUS:CONFIRMED
SUMMARY:Vincenzo Quadrini, University of Southern California
TRANSP:OPAQUE
END:VEVENT
END:VCALENDAR
