BEGIN:VCALENDAR
PRODID:-//Riksbanken//riksbanken.se//SV
VERSION:2.0
BEGIN:VEVENT
DTSTART:20130529T220000Z
DTSTAMP:20260423T170509Z
UID:2ef4eaab2403486cb82518b574138e6d
CREATED:20260423T170509Z
DESCRIPTION:Credit Ratings and the Pricing of Sovereign Debt during the Euro Crisis
LAST-MODIFIED:20260423T170509Z
LOCATION:
SEQUENCE:0
STATUS:CONFIRMED
SUMMARY:Michael Hutchison, UCSC
TRANSP:OPAQUE
END:VEVENT
END:VCALENDAR
