BEGIN:VCALENDAR
PRODID:-//Riksbanken//riksbanken.se//SV
VERSION:2.0
BEGIN:VEVENT
DTSTART:20130530T220000Z
DTSTAMP:20260423T170636Z
UID:21c718d1827d49a4a19dcca679eaf562
CREATED:20260423T170636Z
DESCRIPTION:Capital Versus Labor Income Taxation with Innovation-Led Growth
LAST-MODIFIED:20260423T170636Z
LOCATION:
SEQUENCE:0
STATUS:CONFIRMED
SUMMARY:Philippe Aghion, Harvard University
TRANSP:OPAQUE
END:VEVENT
END:VCALENDAR
