BEGIN:VCALENDAR
PRODID:-//Riksbanken//riksbanken.se//SV
VERSION:2.0
BEGIN:VEVENT
DTSTART:20130604T084500Z
DTSTAMP:20260423T170428Z
UID:d4e0435170754b9d90f3e8055935f4b2
CREATED:20260423T170428Z
DESCRIPTION:Monetary Policy and Financial Stability
LAST-MODIFIED:20260423T170428Z
LOCATION:
SEQUENCE:0
STATUS:CONFIRMED
SUMMARY:Michael Woodford, Columbia University
TRANSP:OPAQUE
END:VEVENT
END:VCALENDAR
