BEGIN:VCALENDAR
PRODID:-//Riksbanken//riksbanken.se//SV
VERSION:2.0
BEGIN:VEVENT
DTSTART:20130604T220000Z
DTSTAMP:20260423T170509Z
UID:aa4f6f35c0d04bc299bc95800abc79c5
CREATED:20260423T170509Z
DESCRIPTION:Excessive Optimism, Leverage, and Boom and Bust Cycles
LAST-MODIFIED:20260423T170509Z
LOCATION:
SEQUENCE:0
STATUS:CONFIRMED
SUMMARY:John Williams, Federal Reserve Bank of San Francisco
TRANSP:OPAQUE
END:VEVENT
END:VCALENDAR
