BEGIN:VCALENDAR
PRODID:-//Riksbanken//riksbanken.se//SV
VERSION:2.0
BEGIN:VEVENT
DTSTART:20130610T220000Z
DTSTAMP:20260423T170540Z
UID:9085053d27a04a50ba912e3509721046
CREATED:20260423T170540Z
DESCRIPTION:Overborrowing, Financial Crises and 'Macro-prudential' Policy
LAST-MODIFIED:20260423T170540Z
LOCATION:
SEQUENCE:0
STATUS:CONFIRMED
SUMMARY:Javier Bianchi, University of Wisconsin - Madison
TRANSP:OPAQUE
END:VEVENT
END:VCALENDAR
