BEGIN:VCALENDAR
PRODID:-//Riksbanken//riksbanken.se//SV
VERSION:2.0
BEGIN:VEVENT
DTSTART:20130624T220000Z
DTSTAMP:20260423T170540Z
UID:6337c302247a49e8b2e3bb7620506cb0
CREATED:20260423T170540Z
DESCRIPTION:Fiscal Multipliers in a Nonlinear World
LAST-MODIFIED:20260423T170540Z
LOCATION:
SEQUENCE:0
STATUS:CONFIRMED
SUMMARY:Jesper Lindé, Board of Governors
TRANSP:OPAQUE
END:VEVENT
END:VCALENDAR
