BEGIN:VCALENDAR
PRODID:-//Riksbanken//riksbanken.se//SV
VERSION:2.0
BEGIN:VEVENT
DTSTART:20130902T220000Z
DTSTAMP:20260423T105914Z
UID:ff6c776a02154fccbca18892212ff238
CREATED:20260423T105914Z
DESCRIPTION:Banks, Liquidity Management and Monetary Policy
LAST-MODIFIED:20260423T105914Z
LOCATION:
SEQUENCE:0
STATUS:CONFIRMED
SUMMARY:Saki Bigio, Columbia University
TRANSP:OPAQUE
END:VEVENT
END:VCALENDAR
