BEGIN:VCALENDAR
PRODID:-//Riksbanken//riksbanken.se//SV
VERSION:2.0
BEGIN:VEVENT
DTSTART:20130916T220000Z
DTSTAMP:20260423T105629Z
UID:0c7049556b9f4cbab558956297db48fe
CREATED:20260423T105629Z
DESCRIPTION:Time-Varying Systemic Risk: Evidence from a Dynamic Copula Model of CDS Spreads
LAST-MODIFIED:20260423T105629Z
LOCATION:
SEQUENCE:0
STATUS:CONFIRMED
SUMMARY:Andrew Patton, Duke University
TRANSP:OPAQUE
END:VEVENT
END:VCALENDAR
