BEGIN:VCALENDAR
PRODID:-//Riksbanken//riksbanken.se//SV
VERSION:2.0
BEGIN:VEVENT
DTSTART:20130923T220000Z
DTSTAMP:20260423T105732Z
UID:55a6bf5d0771484ab0527a1383684dd2
CREATED:20260423T105732Z
DESCRIPTION:How does capital and liquidity regulation change bank credit supply?
LAST-MODIFIED:20260423T105732Z
LOCATION:
SEQUENCE:0
STATUS:CONFIRMED
SUMMARY:Anil Kashyap, University of Chicago
TRANSP:OPAQUE
END:VEVENT
END:VCALENDAR
