BEGIN:VCALENDAR
PRODID:-//Riksbanken//riksbanken.se//SV
VERSION:2.0
BEGIN:VEVENT
DTSTART:20130930T220000Z
DTSTAMP:20260423T133413Z
UID:33b870bac5e04b4f8bf62426a87296da
CREATED:20260423T133413Z
DESCRIPTION:Endogenous risk in a DSGE model with capital-constrained financial intermediaries
LAST-MODIFIED:20260423T133413Z
LOCATION:
SEQUENCE:0
STATUS:CONFIRMED
SUMMARY:Raf Wouters, National Bank of Belgium
TRANSP:OPAQUE
END:VEVENT
END:VCALENDAR
