BEGIN:VCALENDAR
PRODID:-//Riksbanken//riksbanken.se//SV
VERSION:2.0
BEGIN:VEVENT
DTSTART:20131006T220000Z
DTSTAMP:20260423T133420Z
UID:6a815a86335d41d4b00f2b084e5f2e39
CREATED:20260423T133420Z
DESCRIPTION:Government Spending in Good Times and in Bad: Evidence from U.S. Historical Data
LAST-MODIFIED:20260423T133420Z
LOCATION:
SEQUENCE:0
STATUS:CONFIRMED
SUMMARY:Valerie Ramey, University of California, San Diego
TRANSP:OPAQUE
END:VEVENT
END:VCALENDAR
