BEGIN:VCALENDAR
PRODID:-//Riksbanken//riksbanken.se//SV
VERSION:2.0
BEGIN:VEVENT
DTSTART:20131009T090000Z
DTSTAMP:20260423T133437Z
UID:71f83db7cc464aa19aeea46c2dabbe9b
CREATED:20260423T133437Z
DESCRIPTION:On financing retirement with an aging population
LAST-MODIFIED:20260423T133437Z
LOCATION:
SEQUENCE:0
STATUS:CONFIRMED
SUMMARY:Ellen McGrattan, Federal Reserve Bank of Minneapolis
TRANSP:OPAQUE
END:VEVENT
END:VCALENDAR
