BEGIN:VCALENDAR
PRODID:-//Riksbanken//riksbanken.se//SV
VERSION:2.0
BEGIN:VEVENT
DTSTART:20131014T220000Z
DTSTAMP:20260423T133437Z
UID:808765233519444cab276b21166624f0
CREATED:20260423T133437Z
DESCRIPTION:Uncertainty Traps
LAST-MODIFIED:20260423T133437Z
LOCATION:
SEQUENCE:0
STATUS:CONFIRMED
SUMMARY:Eduoard Schaal, New York University 
TRANSP:OPAQUE
END:VEVENT
END:VCALENDAR
