BEGIN:VCALENDAR
PRODID:-//Riksbanken//riksbanken.se//SV
VERSION:2.0
BEGIN:VEVENT
DTSTART:20131027T230000Z
DTSTAMP:20260423T133420Z
UID:0dfeff71f1704ed3a903a924ac7771b8
CREATED:20260423T133420Z
DESCRIPTION:TBA
LAST-MODIFIED:20260423T133420Z
LOCATION:
SEQUENCE:0
STATUS:CONFIRMED
SUMMARY:David Andolfatto, Federal Reserve Bank of St. Louis
TRANSP:OPAQUE
END:VEVENT
END:VCALENDAR
