BEGIN:VCALENDAR
PRODID:-//Riksbanken//riksbanken.se//SV
VERSION:2.0
BEGIN:VEVENT
DTSTART:20131028T230000Z
DTSTAMP:20260423T133420Z
UID:dcb46bd6f011416dba7504edfa282709
CREATED:20260423T133420Z
DESCRIPTION:TBA
LAST-MODIFIED:20260423T133420Z
LOCATION:
SEQUENCE:0
STATUS:CONFIRMED
SUMMARY:Frederic Vermeulen, KU Leuven
TRANSP:OPAQUE
END:VEVENT
END:VCALENDAR
