BEGIN:VCALENDAR
PRODID:-//Riksbanken//riksbanken.se//SV
VERSION:2.0
BEGIN:VEVENT
DTSTART:20131104T230000Z
DTSTAMP:20260423T165914Z
UID:1466719e52314cee99e210cf02004afa
CREATED:20260423T165914Z
DESCRIPTION:Stock Price Booms and Expected Capital Gain
LAST-MODIFIED:20260423T165914Z
LOCATION:
SEQUENCE:0
STATUS:CONFIRMED
SUMMARY:Klaus Adam, University of Mannheim 
TRANSP:OPAQUE
END:VEVENT
END:VCALENDAR
