BEGIN:VCALENDAR
PRODID:-//Riksbanken//riksbanken.se//SV
VERSION:2.0
BEGIN:VEVENT
DTSTART:20131111T230000Z
DTSTAMP:20260423T165925Z
UID:8e6a58e23ba34c7e8446f395a851c2bf
CREATED:20260423T165925Z
DESCRIPTION:Assessing asset purchases within the ECB's Securities Markets Programme
LAST-MODIFIED:20260423T165925Z
LOCATION:
SEQUENCE:0
STATUS:CONFIRMED
SUMMARY:Bernd Schwaab, ECB
TRANSP:OPAQUE
END:VEVENT
END:VCALENDAR
