BEGIN:VCALENDAR
PRODID:-//Riksbanken//riksbanken.se//SV
VERSION:2.0
BEGIN:VEVENT
DTSTART:20131125T230000Z
DTSTAMP:20260423T165940Z
UID:5e38e122f49344b3a24ee94f621a340d
CREATED:20260423T165940Z
DESCRIPTION:On the Effectiveness of Fiscal Policy: Micro Evidence from Contiguous Border Counties
LAST-MODIFIED:20260423T165940Z
LOCATION:
SEQUENCE:0
STATUS:CONFIRMED
SUMMARY:Alexander Ljungqvist, NYU Stern
TRANSP:OPAQUE
END:VEVENT
END:VCALENDAR
