BEGIN:VCALENDAR
PRODID:-//Riksbanken//riksbanken.se//SV
VERSION:2.0
BEGIN:VEVENT
DTSTART:20131202T230000Z
DTSTAMP:20260423T223754Z
UID:32f0005f582543d39f31e8dbaa59e527
CREATED:20260423T223754Z
DESCRIPTION:Optimal capital requirements over the business and financial cycles
LAST-MODIFIED:20260423T223754Z
LOCATION:
SEQUENCE:0
STATUS:CONFIRMED
SUMMARY:Frederic Malherbe, London Business School
TRANSP:OPAQUE
END:VEVENT
END:VCALENDAR
