BEGIN:VCALENDAR
PRODID:-//Riksbanken//riksbanken.se//SV
VERSION:2.0
BEGIN:VEVENT
DTSTART:20131210T090000Z
DTSTAMP:20260423T223747Z
UID:4288abbff84343c5bea5e8e50ae3129c
CREATED:20260423T223747Z
DESCRIPTION:Unemployment Insurance and Consumer Credit
LAST-MODIFIED:20260423T223747Z
LOCATION:
SEQUENCE:0
STATUS:CONFIRMED
SUMMARY:Brian Melzer, Kellogg School of Management
TRANSP:OPAQUE
END:VEVENT
END:VCALENDAR
