BEGIN:VCALENDAR
PRODID:-//Riksbanken//riksbanken.se//SV
VERSION:2.0
BEGIN:VEVENT
DTSTART:20131216T230000Z
DTSTAMP:20260423T223754Z
UID:cc8992a79da9476c9bb0d03595c56922
CREATED:20260423T223754Z
DESCRIPTION:TBA
LAST-MODIFIED:20260423T223754Z
LOCATION:
SEQUENCE:0
STATUS:CONFIRMED
SUMMARY:Alessia Campolmi, Central Bank of Hungary
TRANSP:OPAQUE
END:VEVENT
END:VCALENDAR
