BEGIN:VCALENDAR
PRODID:-//Riksbanken//riksbanken.se//SV
VERSION:2.0
BEGIN:VEVENT
DTSTART:20140106T230000Z
DTSTAMP:20260423T133419Z
UID:e030be1c46fa44cabb9f738a2d077dc9
CREATED:20260423T133419Z
DESCRIPTION:Frequentist evaluation of small DSGE models
LAST-MODIFIED:20260423T133419Z
LOCATION:
SEQUENCE:0
STATUS:CONFIRMED
SUMMARY:Gunnar Bårdsen, NTNU
TRANSP:OPAQUE
END:VEVENT
END:VCALENDAR
