BEGIN:VCALENDAR
PRODID:-//Riksbanken//riksbanken.se//SV
VERSION:2.0
BEGIN:VEVENT
DTSTART:20140113T230000Z
DTSTAMP:20260423T133437Z
UID:e0eb5d01cc08490197c2565135bbf361
CREATED:20260423T133437Z
DESCRIPTION:Leverage Stacks and the Financial System
LAST-MODIFIED:20260423T133437Z
LOCATION:
SEQUENCE:0
STATUS:CONFIRMED
SUMMARY:John Moore, University of Edinburgh
TRANSP:OPAQUE
END:VEVENT
END:VCALENDAR
