BEGIN:VCALENDAR
PRODID:-//Riksbanken//riksbanken.se//SV
VERSION:2.0
BEGIN:VEVENT
DTSTART:20140120T230000Z
DTSTAMP:20260424T203151Z
UID:cb1f4ac78b4142c7b243d1dcdbb89f04
CREATED:20260424T203151Z
DESCRIPTION:A Macroeconomic Model of Endogenous Systemic Risk Taking
LAST-MODIFIED:20260424T203151Z
LOCATION:
SEQUENCE:0
STATUS:CONFIRMED
SUMMARY:David Martinez-Miera, Universidad Carlos III de Madrid
TRANSP:OPAQUE
END:VEVENT
END:VCALENDAR
